BEGIN:VCALENDAR
VERSION:2.0
PRODID:-//Eventin//Event Calendar//EN
CALSCALE:GREGORIAN
METHOD:PUBLISH
BEGIN:VEVENT
UID:969f8ca9db202d1cc230d64570d1f3e9@www.therunnerskahnawake.com
SUMMARY:Sunlife Brossard
DESCRIPTION:DESCRIPTION:Every summer\, The Runners group eagerly participat
 es in a local race\, uniting as a team to embrace the experience together. 
 This event is more than just a race\; it symbolizes our collective effort a
 nd dedication as we train and support one another throughout the season. As
  we cross the finish line\, we celebrate not only our individual achievemen
 ts but also the hard work and perseverance that brought us here as a team. 
 The joy of sharing this success strengthens our bonds and motivates us to c
 ontinue striving for our goals\, making each year’s race a highlight of o
 ur summer.
LOCATION:Brossard\, Quebec
DTSTAMP:20260421T103321Z
DTSTART:20260823T120000Z
DTEND:20260823T210000Z
END:VEVENT
END:VCALENDAR
